BEGIN:VCALENDAR
VERSION:2.0
PRODID:-//Drupal iCal API//EN
X-WR-CALNAME:Events items teaser
X-WR-TIMEZONE:America/Toronto
BEGIN:VTIMEZONE
TZID:America/Toronto
X-LIC-LOCATION:America/Toronto
BEGIN:DAYLIGHT
TZNAME:EDT
TZOFFSETFROM:-0500
TZOFFSETTO:-0400
DTSTART:20240310T070000
END:DAYLIGHT
BEGIN:STANDARD
TZNAME:EST
TZOFFSETFROM:-0400
TZOFFSETTO:-0500
DTSTART:20231105T060000
END:STANDARD
END:VTIMEZONE
BEGIN:VEVENT
UID:69ed43fd6119e
DTSTART;TZID=America/Toronto:20240325T083000
SEQUENCE:0
TRANSP:TRANSPARENT
DTEND;TZID=America/Toronto:20240325T130000
URL:https://uwaterloo.ca/institute-nanotechnology/events/win-workshop-recen
 t-trends-encapsulation
LOCATION:QNC - Quantum Nano Centre 200 University Avenue West 1501 Waterloo
  ON N2L 3G1 Canada
SUMMARY:WIN Workshop: Recent Trends in Encapsulation
CLASS:PUBLIC
DESCRIPTION:Encapsulation is ubiquitous in most consumable products\, rangi
 ng from\npharmaceutical drugs to consumer electronics. The Waterloo Instit
 ute\nfor Nanotechnology (WIN)\, in collaboration with the Institute for\nC
 omplex Molecular Systems (ICMS) at TU/e and the University of\nStrathclyde
 \, is pleased to present a workshop on “Recent Trends in\nEncapsulation
 ” on Monday\, March 25\, 2024\, from 8:30 AM to noon in\nQNC 1501. The p
 rogram will include technical talks from researchers\nand a networking lun
 ch.
DTSTAMP:20260425T224517Z
END:VEVENT
END:VCALENDAR