BEGIN:VCALENDAR
VERSION:2.0
PRODID:-//Drupal iCal API//EN
X-WR-CALNAME:Events items teaser
X-WR-TIMEZONE:America/Toronto
BEGIN:VTIMEZONE
TZID:America/Toronto
X-LIC-LOCATION:America/Toronto
BEGIN:DAYLIGHT
TZNAME:EDT
TZOFFSETFROM:-0500
TZOFFSETTO:-0400
DTSTART:20240310T070000
END:DAYLIGHT
BEGIN:STANDARD
TZNAME:EST
TZOFFSETFROM:-0400
TZOFFSETTO:-0500
DTSTART:20231105T060000
END:STANDARD
END:VTIMEZONE
BEGIN:VEVENT
UID:69ece5045baac
DTSTART;TZID=America/Toronto:20240523T150000
SEQUENCE:0
TRANSP:TRANSPARENT
DTEND;TZID=America/Toronto:20240523T160000
URL:https://uwaterloo.ca/institute-nanotechnology/events/win-distinguished-
 lecture-gerald-fuller
LOCATION:QNC - Quantum Nano Centre 200 University Avenue West 1501 Waterloo
  ON N2L 3G1 Canada
SUMMARY:WIN Distinguished Lecture: Gerald Fuller
CLASS:PUBLIC
DESCRIPTION:The Waterloo Institute for Nanotechnology (WIN) is pleased to p
 resent\na Distinguished Lecture by GERALD FULLER\,Fletcher Jones II Profe
 ssor\nin the Department of Chemical Engineering at Stanford University\,\
 nCalifornia\, USA. \n\nIn-person in QNC 1501!\n\n_Registration is requir
 ed. Please register early as there is limited\nin-person seating._
DTSTAMP:20260425T160004Z
END:VEVENT
END:VCALENDAR