BEGIN:VCALENDAR
VERSION:2.0
PRODID:-//Drupal iCal API//EN
X-WR-CALNAME:Events items teaser
X-WR-TIMEZONE:America/Toronto
BEGIN:VTIMEZONE
TZID:America/Toronto
X-LIC-LOCATION:America/Toronto
BEGIN:DAYLIGHT
TZNAME:EDT
TZOFFSETFROM:-0500
TZOFFSETTO:-0400
DTSTART:20240310T070000
END:DAYLIGHT
BEGIN:STANDARD
TZNAME:EST
TZOFFSETFROM:-0400
TZOFFSETTO:-0500
DTSTART:20231105T060000
END:STANDARD
END:VTIMEZONE
BEGIN:VEVENT
UID:69ed43ec46f76
DTSTART;TZID=America/Toronto:20240930T110000
SEQUENCE:0
TRANSP:TRANSPARENT
DTEND;TZID=America/Toronto:20240930T120000
URL:https://uwaterloo.ca/institute-nanotechnology/events/distinguished-lect
 ure-series-thomas-thundat
LOCATION:QNC - Quantum Nano Centre 1501 200 University Avenue West Waterloo
  ON N2L 3G1 Canada
SUMMARY:Distinguished Lecture Series with Thomas Thundat
CLASS:PUBLIC
DESCRIPTION:The Waterloo Institute for Nanotechnology (WIN) is pleased to p
 resent\na Distinguished Lecture by Dr. Thomas Thundat\, a SUNY Distinguish
 ed\nProfessor and a SUNY Empire Innovation Professor in the Department of\
 nChemical and Biological Engineering at the University at Buffalo\, The\nS
 tate University of New York\, Buffalo\, NY. Please join us on Monday\,\nS
 eptember 30 at 11 a.m. in QNC 1501 to hear Professor Thundat's\nlecture ti
 tled _\"REAL-TIME ULTRA-TRACE DETECTION WITH MOLECULAR\nSELECTIVITY – A 
 BRIDGE TOO FAR?__\"_
DTSTAMP:20260425T224500Z
END:VEVENT
END:VCALENDAR