BEGIN:VCALENDAR
VERSION:2.0
PRODID:-//Drupal iCal API//EN
X-WR-CALNAME:Events items teaser
X-WR-TIMEZONE:America/Toronto
BEGIN:VTIMEZONE
TZID:America/Toronto
X-LIC-LOCATION:America/Toronto
BEGIN:DAYLIGHT
TZNAME:EDT
TZOFFSETFROM:-0500
TZOFFSETTO:-0400
DTSTART:20160313T070000
END:DAYLIGHT
BEGIN:STANDARD
TZNAME:EST
TZOFFSETFROM:-0400
TZOFFSETTO:-0500
DTSTART:20151101T060000
END:STANDARD
END:VTIMEZONE
BEGIN:VEVENT
UID:69e111c0e75cd
DTSTART;TZID=America/Toronto:20160316T090000
SEQUENCE:0
TRANSP:TRANSPARENT
DTEND;TZID=America/Toronto:20160316T180000
URL:https://uwaterloo.ca/institute-nanotechnology/events/nanotechnology-eng
 ineering-capstone-design-symposium
LOCATION:DC - William G. Davis Computer Research Centre Canada
SUMMARY:Nanotechnology Engineering Capstone Design Symposium
CLASS:PUBLIC
DESCRIPTION:Come and explore the NANOTECHNOLOGY ENGINEERING CAPSTONE DESIGN
 \nSYMPOSIUM\n[https://uwaterloo.ca/engineering/events/nanotechnology-engin
 eering-capstone-design-symposium]\nat the University of Waterloo!\n\nThe s
 ymposium showcases the student’s fourth-year design projects in\nthe cut
 ting edge field of nanotechnology. Presentations will include\nposters\, l
 ive demonstrations of the projects and presentations\nthroughout the day. 
 Many of these design projects go on to become\nexciting startups or life-c
 hanging innovations. 
DTSTAMP:20260416T164344Z
END:VEVENT
END:VCALENDAR