BEGIN:VCALENDAR
VERSION:2.0
PRODID:-//Drupal iCal API//EN
X-WR-CALNAME:Events items teaser
X-WR-TIMEZONE:America/Toronto
BEGIN:VTIMEZONE
TZID:America/Toronto
X-LIC-LOCATION:America/Toronto
BEGIN:DAYLIGHT
TZNAME:EDT
TZOFFSETFROM:-0500
TZOFFSETTO:-0400
DTSTART:20250309T070000
END:DAYLIGHT
BEGIN:STANDARD
TZNAME:EST
TZOFFSETFROM:-0400
TZOFFSETTO:-0500
DTSTART:20241103T060000
END:STANDARD
END:VTIMEZONE
BEGIN:VEVENT
UID:69e7ec55d3ee9
DTSTART;TZID=America/Toronto:20250710T140000
SEQUENCE:0
TRANSP:TRANSPARENT
DTEND;TZID=America/Toronto:20250710T150000
URL:https://uwaterloo.ca/institute-nanotechnology/events/win-distinguished-
 lecture-prof-shuk-han-cheng
LOCATION:QNC - Quantum Nano Centre 200 University Avenue West Roon 1501 Wat
 erloo ON N2L 3G1 Canada
SUMMARY:WIN Distinguished Lecture with Prof. Shuk Han CHENG
CLASS:PUBLIC
DESCRIPTION:The Waterloo Institute for Nanotechnology (WIN) is pleased to p
 resent\na Distinguished Lecture by Prof. Shuk Han CHENG\,Department of\nBi
 omedical Sciences and Department of Materials Science and\nEngineering\, C
 ity University of Hong Kong.\n\nPlease join us on Thursday\, July 10 at 
  2:00 p.m. to hear Professor\nCHENG's lecture titled \"_Curiosity-Driven R
 esearch on Nanomaterials\nLed to Unexpected Societal Impact.\"_
DTSTAMP:20260421T212957Z
END:VEVENT
END:VCALENDAR