BEGIN:VCALENDAR
VERSION:2.0
PRODID:-//Drupal iCal API//EN
X-WR-CALNAME:Events items teaser
X-WR-TIMEZONE:America/Toronto
BEGIN:VTIMEZONE
TZID:America/Toronto
X-LIC-LOCATION:America/Toronto
BEGIN:DAYLIGHT
TZNAME:EDT
TZOFFSETFROM:-0500
TZOFFSETTO:-0400
DTSTART:20250309T070000
END:DAYLIGHT
BEGIN:STANDARD
TZNAME:EST
TZOFFSETFROM:-0400
TZOFFSETTO:-0500
DTSTART:20241103T060000
END:STANDARD
END:VTIMEZONE
BEGIN:VEVENT
UID:69ec35635e948
DTSTART;TZID=America/Toronto:20251023T110000
SEQUENCE:0
TRANSP:TRANSPARENT
DTEND;TZID=America/Toronto:20251023T120000
URL:https://uwaterloo.ca/institute-nanotechnology/events/win-distinguished-
 lecture-prof-hideo-ohno
LOCATION:QNC - Quantum Nano Centre 200 University Avenue West Roon 1501 Wat
 erloo ON N2L 3G1 Canada
SUMMARY:WIN Distinguished Lecture with Prof. Hideo Ohno
CLASS:PUBLIC
DESCRIPTION:The Waterloo Institute for Nanotechnology (WIN) is pleased to p
 resent\na Distinguished Lecture by Prof. Hideo Ohno\, Special Honorary\nPr
 ofessor and former President of Tohoku University \, Sendai\, Japan.\n\n
 Please join us on Thursday\, October 23 at 11:00 a.m. to hear Professor\nO
 hno's lecture titled \"Spintronics at the Nanoscale: Enabling Green\nInfor
 mation Processing.\"
DTSTAMP:20260425T033043Z
END:VEVENT
END:VCALENDAR