BEGIN:VCALENDAR
VERSION:2.0
PRODID:-//Drupal iCal API//EN
X-WR-CALNAME:Events items teaser
X-WR-TIMEZONE:America/Toronto
BEGIN:VTIMEZONE
TZID:America/Toronto
X-LIC-LOCATION:America/Toronto
BEGIN:DAYLIGHT
TZNAME:EDT
TZOFFSETFROM:-0500
TZOFFSETTO:-0400
DTSTART:20250309T070000
END:DAYLIGHT
BEGIN:STANDARD
TZNAME:EST
TZOFFSETFROM:-0400
TZOFFSETTO:-0500
DTSTART:20241103T060000
END:STANDARD
END:VTIMEZONE
BEGIN:VEVENT
UID:69ec356759716
DTSTART;TZID=America/Toronto:20251023T100000
SEQUENCE:0
TRANSP:TRANSPARENT
DTEND;TZID=America/Toronto:20251023T110000
URL:https://uwaterloo.ca/institute-nanotechnology/events/win-cenide-seminar
 -series-2d-mature-cristiana-di-valentin
LOCATION:QNC - Quantum Nano Centre 200 University Avenue West Room 1501 Wat
 erloo ON N2L 3G1 Canada
SUMMARY:WIN &amp; CENIDE Seminar Series on 2D-MATURE with Cristiana Di Valentin
CLASS:PUBLIC
DESCRIPTION:The Waterloo Institute for Nanotechnology (WIN) and the Center 
 for\nNanointegration Duisberg-Essen (CENIDE) are pleased to\npresent Cris
 tiana Di Valentin for a joint 2D-MATURE seminar titled\n\"Interfacing dop
 ed graphene with metal/metal oxide surfaces or\nmolecular layers_._\"
DTSTAMP:20260425T033047Z
END:VEVENT
END:VCALENDAR