BEGIN:VCALENDAR
VERSION:2.0
PRODID:-//Drupal iCal API//EN
X-WR-CALNAME:Events items teaser
X-WR-TIMEZONE:America/Toronto
BEGIN:VTIMEZONE
TZID:America/Toronto
X-LIC-LOCATION:America/Toronto
BEGIN:DAYLIGHT
TZNAME:EDT
TZOFFSETFROM:-0500
TZOFFSETTO:-0400
DTSTART:20260308T070000
END:DAYLIGHT
BEGIN:STANDARD
TZNAME:EST
TZOFFSETFROM:-0400
TZOFFSETTO:-0500
DTSTART:20251102T060000
END:STANDARD
END:VTIMEZONE
BEGIN:VEVENT
UID:69ec270352e77
DTSTART;TZID=America/Toronto:20260512T110000
SEQUENCE:0
TRANSP:TRANSPARENT
DTEND;TZID=America/Toronto:20260512T120000
URL:https://uwaterloo.ca/institute-nanotechnology/events/win-distinguished-
 lecture-arben-merkoci
LOCATION:QNC - Quantum Nano Centre 200 University Avenue West Room 0101 Wat
 erloo ON N2L 3G1 Canada
SUMMARY:WIN Distinguished Lecture with Arben Merkoçi
CLASS:PUBLIC
DESCRIPTION:The Waterloo Institute for Nanotechnology (WIN) is pleased to p
 resent\na Distinguished Lecture by Arben Merkoçi\, Arben Merkoçi\, ICRE
 A\nResearch Professor\, Head of Nanobioelectronics &amp; Biosensors\nGroup\, 
 Institut Català de Nanociència i Nanotecnologia. Please join\nus on Tues
 day\, May 12\, at 11:00 a.m. to hear Arben Merkoçi's lecture\ntitled \"C
 oupling Nanomaterials with Sustainable Platforms for\nNext-Generation Poin
 t-of-Care Nanobiosensors.\"
DTSTAMP:20260425T022923Z
END:VEVENT
END:VCALENDAR