BEGIN:VCALENDAR
VERSION:2.0
PRODID:-//Drupal iCal API//EN
X-WR-CALNAME:Events items teaser
X-WR-TIMEZONE:America/Toronto
BEGIN:VTIMEZONE
TZID:America/Toronto
X-LIC-LOCATION:America/Toronto
BEGIN:DAYLIGHT
TZNAME:EDT
TZOFFSETFROM:-0500
TZOFFSETTO:-0400
DTSTART:20260308T070000
END:DAYLIGHT
BEGIN:STANDARD
TZNAME:EST
TZOFFSETFROM:-0400
TZOFFSETTO:-0500
DTSTART:20251102T060000
END:STANDARD
END:VTIMEZONE
BEGIN:VEVENT
UID:69e919610d7cc
DTSTART;TZID=America/Toronto:20260505T100000
SEQUENCE:0
TRANSP:TRANSPARENT
DTEND;TZID=America/Toronto:20260505T110000
URL:https://uwaterloo.ca/institute-nanotechnology/events/win-che-joint-semi
 nar-andrew-fix
LOCATION:QNC - Quantum Nano Centre 200 University Avenue West Waterloo ON N
 2L 3G1 Canada
SUMMARY:WIN-ChE Joint Seminar : Andrew Fix
CLASS:PUBLIC
DESCRIPTION:The Waterloo Institute for Nanotechnology (WIN) and Department 
 of\nChemical Engineering are pleased to present Andrew Fix for a joint\,\n
 collaborative seminar titled \"Selective Membrane Air Dehumidification:\nB
 ridging the Gap Between Materials\, Components\, and HVAC System\nDesign
 ”
DTSTAMP:20260422T185425Z
END:VEVENT
END:VCALENDAR