BEGIN:VCALENDAR
VERSION:2.0
PRODID:-//Drupal iCal API//EN
X-WR-CALNAME:Events items teaser
X-WR-TIMEZONE:America/Toronto
BEGIN:VTIMEZONE
TZID:America/Toronto
X-LIC-LOCATION:America/Toronto
BEGIN:DAYLIGHT
TZNAME:EDT
TZOFFSETFROM:-0500
TZOFFSETTO:-0400
DTSTART:20190310T070000
END:DAYLIGHT
BEGIN:STANDARD
TZNAME:EST
TZOFFSETFROM:-0400
TZOFFSETTO:-0500
DTSTART:20191103T060000
END:STANDARD
END:VTIMEZONE
BEGIN:VEVENT
UID:69ed5b077ab63
DTSTART;TZID=America/Toronto:20191123T091500
SEQUENCE:0
TRANSP:TRANSPARENT
DTEND;TZID=America/Toronto:20191124T131500
URL:https://uwaterloo.ca/institute-nanotechnology/events/waterloo-nanotechn
 ology-conference
LOCATION:QNC - Quantum Nano Centre 200 University Avenue West Various - see
  event site Waterloo ON N2L 3G1 Canada
SUMMARY:Waterloo Nanotechnology Conference
CLASS:PUBLIC
DESCRIPTION:EXPLORE POSSIBILITIES IN THE NANOSCALE\n\nOn November 23 and 24
 \, 2019\, the Waterloo Nanotechnology Conference\n(WNC) will celebrate its
  5th anniversary bringing together students\,\nemployers\, researchers\, a
 nd entrepreneurs around a common interest in\nnanotechnology. Join them\, 
 as they expand into a two-day conference\nto explore how nanotechnology i
 s used in industry\, its advances in\ninnovative research\, and its use to
  power new ventures.\n\nWHAT IS WNC?
DTSTAMP:20260426T002335Z
END:VEVENT
END:VCALENDAR