BEGIN:VCALENDAR
VERSION:2.0
PRODID:-//Drupal iCal API//EN
X-WR-CALNAME:Events items teaser
X-WR-TIMEZONE:America/Toronto
BEGIN:VTIMEZONE
TZID:America/Toronto
X-LIC-LOCATION:America/Toronto
BEGIN:DAYLIGHT
TZNAME:EDT
TZOFFSETFROM:-0500
TZOFFSETTO:-0400
DTSTART:20210314T070000
END:DAYLIGHT
BEGIN:STANDARD
TZNAME:EST
TZOFFSETFROM:-0400
TZOFFSETTO:-0500
DTSTART:20201101T060000
END:STANDARD
END:VTIMEZONE
BEGIN:VEVENT
UID:69ec78410ae71
DTSTART;TZID=America/Toronto:20210816T080000
SEQUENCE:0
TRANSP:TRANSPARENT
DTEND;TZID=America/Toronto:20210820T203000
URL:https://uwaterloo.ca/institute-nanotechnology/events/2021-world-fuel-ce
 ll-conference
LOCATION:Virtual Canada
SUMMARY:2021 World Fuel Cell Conference
CLASS:PUBLIC
DESCRIPTION:[WFCC Banner]
DTSTAMP:20260425T081601Z
END:VEVENT
END:VCALENDAR