BEGIN:VCALENDAR
VERSION:2.0
PRODID:-//Drupal iCal API//EN
X-WR-CALNAME:Events items teaser
X-WR-TIMEZONE:America/Toronto
BEGIN:VTIMEZONE
TZID:America/Toronto
X-LIC-LOCATION:America/Toronto
BEGIN:DAYLIGHT
TZNAME:EDT
TZOFFSETFROM:-0500
TZOFFSETTO:-0400
DTSTART:20210314T070000
END:DAYLIGHT
BEGIN:STANDARD
TZNAME:EST
TZOFFSETFROM:-0400
TZOFFSETTO:-0500
DTSTART:20211107T060000
END:STANDARD
END:VTIMEZONE
BEGIN:VEVENT
UID:69ed5af5e2656
DTSTART;TZID=America/Toronto:20220222T190000
SEQUENCE:0
TRANSP:TRANSPARENT
DTEND;TZID=America/Toronto:20220223T170000
URL:https://uwaterloo.ca/institute-nanotechnology/events/global-summit-laun
 ch-nanotechnology-healthier-sustainable
SUMMARY:Global Summit Launch: Nanotechnology for a Healthier Sustainable\nF
 uture
CLASS:PUBLIC
DESCRIPTION:PLEASE JOIN THE GLOBAL SUMMIT LAUNCH\n[https://network4sustaina
 blenano.org/global-summit-2022/] OVER TWO\nDAYS FEBRUARY 22-23 FOR EXCIT
 ING KEYNOTE SESSIONS FOLLOWED BY WIDER\nPANEL DISCUSSION.
DTSTAMP:20260426T002317Z
END:VEVENT
END:VCALENDAR