BEGIN:VCALENDAR
VERSION:2.0
PRODID:-//Drupal iCal API//EN
X-WR-CALNAME:Events items teaser
X-WR-TIMEZONE:America/Toronto
BEGIN:VTIMEZONE
TZID:America/Toronto
X-LIC-LOCATION:America/Toronto
BEGIN:DAYLIGHT
TZNAME:EDT
TZOFFSETFROM:-0500
TZOFFSETTO:-0400
DTSTART:20220313T070000
END:DAYLIGHT
BEGIN:STANDARD
TZNAME:EST
TZOFFSETFROM:-0400
TZOFFSETTO:-0500
DTSTART:20211107T060000
END:STANDARD
END:VTIMEZONE
BEGIN:VEVENT
UID:69e94049e9646
DTSTART;TZID=America/Toronto:20220613T130000
SEQUENCE:0
TRANSP:TRANSPARENT
DTEND;TZID=America/Toronto:20220613T140000
URL:https://uwaterloo.ca/institute-nanotechnology/events/win-industry-speak
 er-tiffany-santos
LOCATION:Online via Zoom Canada
SUMMARY:WIN Industry Speaker: Tiffany Santos
CLASS:PUBLIC
DESCRIPTION:The Waterloo Institute for Nanotechnology (WIN) is pleased to p
 resent\nTiffany Santos (PhD) of Western Digital Corporation as part of the
  WIN\nIndustry Speaker Series. Dr. Santos will be presenting LIVE VIA ZOOM
 .\nRegistration required. \n\nSPINS\, BITS\, AND FLIPS: ESSENTIALS FOR H
 IGH-DENSITY MAGNETIC\nRANDOM-ACCESS MEMORY\n\nABSTRACT
DTSTAMP:20260422T214025Z
END:VEVENT
END:VCALENDAR