BEGIN:VCALENDAR
VERSION:2.0
PRODID:-//Drupal iCal API//EN
X-WR-CALNAME:Events items teaser
X-WR-TIMEZONE:America/Toronto
BEGIN:VTIMEZONE
TZID:America/Toronto
X-LIC-LOCATION:America/Toronto
BEGIN:DAYLIGHT
TZNAME:EDT
TZOFFSETFROM:-0500
TZOFFSETTO:-0400
DTSTART:20260308T070000
END:DAYLIGHT
BEGIN:STANDARD
TZNAME:EST
TZOFFSETFROM:-0400
TZOFFSETTO:-0500
DTSTART:20251102T060000
END:STANDARD
END:VTIMEZONE
BEGIN:VEVENT
UID:69b48d3998b17
DTSTART;VALUE=DATE:20260506
SEQUENCE:0
TRANSP:TRANSPARENT
DTEND;VALUE=DATE:20260508
URL:https://uwaterloo.ca/institute-polymer-research/events/2026-ipr-symposi
 um
LOCATION:E7 - Engineering 7 200 University Ave West Waterloo ON N2L 3G1 Can
 ada
SUMMARY:2026 IPR Symposium
CLASS:PUBLIC
DESCRIPTION:The IPR is happy to announce our 2026 IPR Symposium.  We are e
 xcited\nto hear our Keynote Speakers.  Dr. Jenner Ngai from NRCC and\nPro
 fessor Todd Hoare from McMaster University. Industrial Registration\nLink.
 \n[https://uwaterloo.ca/institute-polymer-research/form/-industrial-48th-a
 nnual-symposiu] \nThe schedule for the two days can be found here\n[/inst
 itute-polymer-research/sites/default/files/uploads/documents/ipr-symposium
 -schedule-2026.pdf].
X-MICROSOFT-CDO-ALLDAYEVENT:TRUE
DTSTAMP:20260313T221833Z
END:VEVENT
END:VCALENDAR