BEGIN:VCALENDAR
VERSION:2.0
PRODID:-//Drupal iCal API//EN
X-WR-CALNAME:Events items teaser
X-WR-TIMEZONE:America/Toronto
BEGIN:VTIMEZONE
TZID:America/Toronto
X-LIC-LOCATION:America/Toronto
BEGIN:DAYLIGHT
TZNAME:EDT
TZOFFSETFROM:-0500
TZOFFSETTO:-0400
DTSTART:20140309T070000
END:DAYLIGHT
BEGIN:STANDARD
TZNAME:EST
TZOFFSETFROM:-0400
TZOFFSETTO:-0500
DTSTART:20131103T060000
END:STANDARD
END:VTIMEZONE
BEGIN:VEVENT
UID:69b9ed200ace8
DTSTART;VALUE=DATE:20140521
SEQUENCE:0
TRANSP:TRANSPARENT
DTEND;VALUE=DATE:20140522
URL:https://uwaterloo.ca/institute-polymer-research/events/thirty-sixth-ann
 ual-symposium-polymer-scienceengineering
LOCATION:CGR - Conrad Grebel University 140 Westmount Road North Waterloo O
 N N2L 3G6 Canada
SUMMARY:Thirty-sixth Annual Symposium on Polymer Science/Engineering 2014
CLASS:PUBLIC
DESCRIPTION:INSTITUTE FOR POLYMER RESEARCH\n_Celebrating 30 Years of Offici
 al Institute Status_
X-MICROSOFT-CDO-ALLDAYEVENT:TRUE
DTSTAMP:20260318T000904Z
END:VEVENT
END:VCALENDAR