BEGIN:VCALENDAR
VERSION:2.0
PRODID:-//Drupal iCal API//EN
X-WR-CALNAME:Events items teaser
X-WR-TIMEZONE:America/Toronto
BEGIN:VTIMEZONE
TZID:America/Toronto
X-LIC-LOCATION:America/Toronto
BEGIN:DAYLIGHT
TZNAME:EDT
TZOFFSETFROM:-0500
TZOFFSETTO:-0400
DTSTART:20240310T070000
END:DAYLIGHT
BEGIN:STANDARD
TZNAME:EST
TZOFFSETFROM:-0400
TZOFFSETTO:-0500
DTSTART:20241103T060000
END:STANDARD
END:VTIMEZONE
BEGIN:VEVENT
UID:69e3e6af80af3
DTSTART;TZID=America/Toronto:20241120T100000
SEQUENCE:0
TRANSP:TRANSPARENT
DTEND;TZID=America/Toronto:20241120T113000
URL:https://uwaterloo.ca/international-experience/events/immigration-inform
 ation-session-permanent-residence-oinp-ma
SUMMARY:Immigration Information Session: Permanent Residence - OINP (MA and
 \nPhD) – Fall 2024
CLASS:PUBLIC
DESCRIPTION:Have you been wondering how to become a permanent resident in C
 anada\nthrough the Ontario Immigrant Nominee Program (OINP)? Join\nWaterlo
 o's immigration consultants\n[https://uwaterloo.ca/student-success/studen
 ts/international-student-resources/immigration-advising] to\nlearn about 
 the OINP and the current requirements to apply for\npermanent residency un
 der the MASTERS GRADUATE STREAM AND PHD\nGRADUATE STREAM.
DTSTAMP:20260418T201647Z
END:VEVENT
END:VCALENDAR