BEGIN:VCALENDAR
VERSION:2.0
PRODID:-//Drupal iCal API//EN
X-WR-CALNAME:Events items teaser
X-WR-TIMEZONE:America/Toronto
BEGIN:VTIMEZONE
TZID:America/Toronto
X-LIC-LOCATION:America/Toronto
BEGIN:DAYLIGHT
TZNAME:EDT
TZOFFSETFROM:-0500
TZOFFSETTO:-0400
DTSTART:20230312T070000
END:DAYLIGHT
BEGIN:STANDARD
TZNAME:EST
TZOFFSETFROM:-0400
TZOFFSETTO:-0500
DTSTART:20231105T060000
END:STANDARD
END:VTIMEZONE
BEGIN:VEVENT
UID:69eac0abcbf54
DTSTART;TZID=America/Toronto:20240214T143000
SEQUENCE:0
TRANSP:TRANSPARENT
DTEND;TZID=America/Toronto:20240214T160000
URL:https://uwaterloo.ca/kinesiology-health-sciences/events/using-opportuni
 ties-build-research-program
LOCATION:Health Expansion Building\, Room 1689 200 University Avenue West W
 aterloo ON N2L 3G1 Canada
SUMMARY:Using opportunities to build a research program
CLASS:PUBLIC
DESCRIPTION:Dr. Keller will provide an overview of her career journey highl
 ighting\nhow opportunities have led to new steps and skill development in 
 her\ncareer. 
DTSTAMP:20260424T010027Z
END:VEVENT
END:VCALENDAR