BEGIN:VCALENDAR
VERSION:2.0
PRODID:-//Drupal iCal API//EN
X-WR-CALNAME:Events items teaser
X-WR-TIMEZONE:America/Toronto
BEGIN:VTIMEZONE
TZID:America/Toronto
X-LIC-LOCATION:America/Toronto
BEGIN:DAYLIGHT
TZNAME:EDT
TZOFFSETFROM:-0500
TZOFFSETTO:-0400
DTSTART:20240310T070000
END:DAYLIGHT
BEGIN:STANDARD
TZNAME:EST
TZOFFSETFROM:-0400
TZOFFSETTO:-0500
DTSTART:20231105T060000
END:STANDARD
END:VTIMEZONE
BEGIN:VEVENT
UID:69eb038db60dc
DTSTART;TZID=America/Toronto:20240313T143000
SEQUENCE:0
TRANSP:TRANSPARENT
DTEND;TZID=America/Toronto:20240313T160000
URL:https://uwaterloo.ca/kinesiology-health-sciences/events/neural-control-
 human-mobility
LOCATION:Health Expansion Building\, Room 1689 200 University Avenue West W
 aterloo ON N2L 3G1 Canada
SUMMARY:Neural Control of Human Mobility
CLASS:PUBLIC
DESCRIPTION:Dr. McIlroy will provide an overview of his career researching 
 neural\ncontrol of human balance and offers insight into what the future m
 ay\nhold. 
DTSTAMP:20260424T054549Z
END:VEVENT
END:VCALENDAR