BEGIN:VCALENDAR
VERSION:2.0
PRODID:-//Drupal iCal API//EN
X-WR-CALNAME:Events items teaser
X-WR-TIMEZONE:America/Toronto
BEGIN:VTIMEZONE
TZID:America/Toronto
X-LIC-LOCATION:America/Toronto
BEGIN:DAYLIGHT
TZNAME:EDT
TZOFFSETFROM:-0500
TZOFFSETTO:-0400
DTSTART:20250309T070000
END:DAYLIGHT
BEGIN:STANDARD
TZNAME:EST
TZOFFSETFROM:-0400
TZOFFSETTO:-0500
DTSTART:20241103T060000
END:STANDARD
END:VTIMEZONE
BEGIN:VEVENT
UID:69eac089d14e9
DTSTART;TZID=America/Toronto:20250403T143000
SEQUENCE:0
TRANSP:TRANSPARENT
DTEND;TZID=America/Toronto:20250403T170000
URL:https://uwaterloo.ca/kinesiology-health-sciences/events/2025-aftab-patl
 a-memorial-cup-hockey-game
LOCATION:CIF - Columbia Icefield 200 University Avenue West Waterloo ON N2L
  3G1 Canada
SUMMARY:2025 Aftab Patla Memorial Cup Hockey Game
CLASS:PUBLIC
DESCRIPTION:The Aftab Patla Memorial Cup Hockey Game involves participation
  from\nundergraduate students\, graduate students\, postdocs\, staff and\n
 faculty\, both on the ice and in the stands. It was created in honour\nof 
 Dr. Aftab Patla\, a faculty member here in the Department of\nKinesiology 
 and Health Sciences who passed away in 2007.
DTSTAMP:20260424T005953Z
END:VEVENT
END:VCALENDAR