BEGIN:VCALENDAR
VERSION:2.0
PRODID:-//Drupal iCal API//EN
X-WR-CALNAME:Events items teaser
X-WR-TIMEZONE:America/Toronto
BEGIN:VTIMEZONE
TZID:America/Toronto
X-LIC-LOCATION:America/Toronto
BEGIN:DAYLIGHT
TZNAME:EDT
TZOFFSETFROM:-0500
TZOFFSETTO:-0400
DTSTART:20210314T070000
END:DAYLIGHT
BEGIN:STANDARD
TZNAME:EST
TZOFFSETFROM:-0400
TZOFFSETTO:-0500
DTSTART:20201101T060000
END:STANDARD
END:VTIMEZONE
BEGIN:VEVENT
UID:69b9da0dcec97
DTSTART;TZID=America/Toronto:20210917T130000
SEQUENCE:0
TRANSP:TRANSPARENT
DTEND;TZID=America/Toronto:20210917T142000
URL:https://uwaterloo.ca/knowledge-integration/events/ki-seminar-skaidra-pu
 odziunas-sukhi-chuhan
LOCATION:online: students access link via their LEARN calendar HH 1101: stu
 dents registered for the in-person offering of INTEG 10 can join the in-pe
 rson viewing party Canada
SUMMARY:KI Seminar: Skaidra Puodziunas &amp; Sukhi Chuhan
CLASS:PUBLIC
DESCRIPTION:KNOWLEDGE INTEGRATION AND PUBLIC SERVICE FOR THE DIGITAL AGE\n\
 nPeople expect government services to be simple\, seamless and\nintuitive\
 , but making that a reality is one of the biggest obstacles\nfaced by the 
 public service.
DTSTAMP:20260317T224741Z
END:VEVENT
END:VCALENDAR