BEGIN:VCALENDAR
VERSION:2.0
PRODID:-//Drupal iCal API//EN
X-WR-CALNAME:Events items teaser
X-WR-TIMEZONE:America/Toronto
BEGIN:VTIMEZONE
TZID:America/Toronto
X-LIC-LOCATION:America/Toronto
BEGIN:DAYLIGHT
TZNAME:EDT
TZOFFSETFROM:-0500
TZOFFSETTO:-0400
DTSTART:20210314T070000
END:DAYLIGHT
BEGIN:STANDARD
TZNAME:EST
TZOFFSETFROM:-0400
TZOFFSETTO:-0500
DTSTART:20201101T060000
END:STANDARD
END:VTIMEZONE
BEGIN:VEVENT
UID:69bd6bddcadbc
DTSTART;TZID=America/Toronto:20210924T130000
SEQUENCE:0
TRANSP:TRANSPARENT
DTEND;TZID=America/Toronto:20210924T142000
URL:https://uwaterloo.ca/knowledge-integration/events/ki-seminar-course-sel
 ection-tips-upper-year-students
LOCATION:HH - J.G. Hagey Hall of the Humanities 200 University Avenue West 
 1101 Waterloo ON N2L 3G1 Canada
SUMMARY:KI Seminar: Course selection tips from upper-year students
CLASS:PUBLIC
DESCRIPTION:HOSTED BY THE KNOWLEDGE INTEGRATION STUDENT SOCIETY (KISS)\n\nA
 ttention 1st and 2nd year KI students!!!\n\nHave you ever wanted to pick t
 he brain of an upper year who has the\nsame course interests as you??? Ner
 vous about course selection and\nwanting tips?? Come to this INTEG 10 Sem
 inar for the opportunity of a\nlifetime! 
DTSTAMP:20260320T154637Z
END:VEVENT
END:VCALENDAR