BEGIN:VCALENDAR
VERSION:2.0
PRODID:-//Drupal iCal API//EN
X-WR-CALNAME:Events items teaser
X-WR-TIMEZONE:America/Toronto
BEGIN:VTIMEZONE
TZID:America/Toronto
X-LIC-LOCATION:America/Toronto
BEGIN:DAYLIGHT
TZNAME:EDT
TZOFFSETFROM:-0500
TZOFFSETTO:-0400
DTSTART:20210314T070000
END:DAYLIGHT
BEGIN:STANDARD
TZNAME:EST
TZOFFSETFROM:-0400
TZOFFSETTO:-0500
DTSTART:20201101T060000
END:STANDARD
END:VTIMEZONE
BEGIN:VEVENT
UID:69b9da0e4a695
DTSTART;TZID=America/Toronto:20211001T130000
SEQUENCE:0
TRANSP:TRANSPARENT
DTEND;TZID=America/Toronto:20211001T142000
URL:https://uwaterloo.ca/knowledge-integration/events/ki-seminar-creativity
 -challenges-and-community-building
LOCATION:HH - J.G. Hagey Hall of the Humanities 200 University Avenue West 
 1101 Waterloo ON N2L 3G1 Canada
SUMMARY:KI Seminar: Creativity Challenges and Community Building
CLASS:PUBLIC
DESCRIPTION:Join us in person as we challenge your creativity with some\nin
 teresting activities. We'll have some unstructured social time as\nwell!\n
 \nThis seminar will be co-facilitated by KI faculty Katie Plaisance and\n
 Rob Gorbet\, and will start at 1:10pm in support of the students who\nare 
 participating in the student-planned event from 12-1pm.\n\nWe'll meet in 
 HH 1101\, and if the weather allows\, we'll aim to head\noutside!\n\n_the 
 seminar this week is only for KI students registered this term\nfor the i
 n-person INTEG 10 class\, and KI faculty and staff_
DTSTAMP:20260317T224742Z
END:VEVENT
END:VCALENDAR