BEGIN:VCALENDAR
VERSION:2.0
PRODID:-//Drupal iCal API//EN
X-WR-CALNAME:Events items teaser
X-WR-TIMEZONE:America/Toronto
BEGIN:VTIMEZONE
TZID:America/Toronto
X-LIC-LOCATION:America/Toronto
BEGIN:DAYLIGHT
TZNAME:EDT
TZOFFSETFROM:-0500
TZOFFSETTO:-0400
DTSTART:20210314T070000
END:DAYLIGHT
BEGIN:STANDARD
TZNAME:EST
TZOFFSETFROM:-0400
TZOFFSETTO:-0500
DTSTART:20201101T060000
END:STANDARD
END:VTIMEZONE
BEGIN:VEVENT
UID:69bd6fa9c57fb
DTSTART;TZID=America/Toronto:20211029T130000
SEQUENCE:0
TRANSP:TRANSPARENT
DTEND;TZID=America/Toronto:20211029T142000
URL:https://uwaterloo.ca/knowledge-integration/events/ki-seminar-maritza-sa
 lazar-campo
LOCATION:online: students access link via their LEARN calendar HH 1101: stu
 dents registered for the in-person offering of INTEG 10 can join the in-pe
 rson viewing party Canada
SUMMARY:KI Seminar: Maritza Salazar Campo
CLASS:PUBLIC
DESCRIPTION:CONVERGENCE SCIENCE TEAMS \n\nThe complexity of scientific pro
 blems\, coupled with a growing need for\nspecialized expertise\, requires 
 the formation of teams of experts who\ncollaborate across disciplinary bou
 ndaries to generate scientific\nbreakthroughs. The variety of knowledge av
 ailable in convergence\nscience teams provides the breadth of expertise to
  tackle complex\nproblems that would be intractable by a single discipline
 .
DTSTAMP:20260320T160249Z
END:VEVENT
END:VCALENDAR