BEGIN:VCALENDAR
VERSION:2.0
PRODID:-//Drupal iCal API//EN
X-WR-CALNAME:Events items teaser
X-WR-TIMEZONE:America/Toronto
BEGIN:VTIMEZONE
TZID:America/Toronto
X-LIC-LOCATION:America/Toronto
BEGIN:DAYLIGHT
TZNAME:EDT
TZOFFSETFROM:-0500
TZOFFSETTO:-0400
DTSTART:20210314T070000
END:DAYLIGHT
BEGIN:STANDARD
TZNAME:EST
TZOFFSETFROM:-0400
TZOFFSETTO:-0500
DTSTART:20201101T060000
END:STANDARD
END:VTIMEZONE
BEGIN:VEVENT
UID:69b9da0eb814a
DTSTART;TZID=America/Toronto:20211022T130000
SEQUENCE:0
TRANSP:TRANSPARENT
DTEND;TZID=America/Toronto:20211022T142000
URL:https://uwaterloo.ca/knowledge-integration/events/ki-seminar-kinnection
 s-challenge
LOCATION:HH - J.G. Hagey Hall of the Humanities 200 University Avenue West 
 1101 Waterloo ON N2L 3G1 Canada
SUMMARY:KI Seminar: KInnections Challenge
CLASS:PUBLIC
DESCRIPTION:Join us in person as KISS (the Knowledge Integration Student So
 ciety)\ncreates a KInnections challenge to build community among KI studen
 ts\,\nfaculty\, and staff.\n\nThere will be fun and prizes.\n\nWe'll meet 
 in HH 1101\, and then if the weather allows\, we'll aim to\nhead outside!\
 n\n_the seminar this week is only for KI students registered this term\nf
 or the in-person INTEG 10 class\, and KI faculty and staff_
DTSTAMP:20260317T224742Z
END:VEVENT
END:VCALENDAR