BEGIN:VCALENDAR
VERSION:2.0
PRODID:-//Drupal iCal API//EN
X-WR-CALNAME:Events items teaser
X-WR-TIMEZONE:America/Toronto
BEGIN:VTIMEZONE
TZID:America/Toronto
X-LIC-LOCATION:America/Toronto
BEGIN:DAYLIGHT
TZNAME:EDT
TZOFFSETFROM:-0500
TZOFFSETTO:-0400
DTSTART:20210314T070000
END:DAYLIGHT
BEGIN:STANDARD
TZNAME:EST
TZOFFSETFROM:-0400
TZOFFSETTO:-0500
DTSTART:20201101T060000
END:STANDARD
END:VTIMEZONE
BEGIN:VEVENT
UID:69b9da0f106fc
DTSTART;TZID=America/Toronto:20211105T130000
SEQUENCE:0
TRANSP:TRANSPARENT
DTEND;TZID=America/Toronto:20211105T142000
URL:https://uwaterloo.ca/knowledge-integration/events/ki-seminar-what-does-
 it-mean-be-anti-ist-ki
LOCATION:online: students access link via their LEARN calendar HH 1101: stu
 dents registered for the in-person offering of INTEG 10 Canada
SUMMARY:KI Seminar: What does it mean to be anti-__ist in KI?
CLASS:PUBLIC
DESCRIPTION:Since 2020\, there has been renewed energy to reckon with racis
 m and\nsettler colonialism\, and there are additional forms of oppression 
 that\nmust be dismantled.
DTSTAMP:20260317T224743Z
END:VEVENT
END:VCALENDAR