BEGIN:VCALENDAR
VERSION:2.0
PRODID:-//Drupal iCal API//EN
X-WR-CALNAME:Events items teaser
X-WR-TIMEZONE:America/Toronto
BEGIN:VTIMEZONE
TZID:America/Toronto
X-LIC-LOCATION:America/Toronto
BEGIN:DAYLIGHT
TZNAME:EDT
TZOFFSETFROM:-0500
TZOFFSETTO:-0400
DTSTART:20210314T070000
END:DAYLIGHT
BEGIN:STANDARD
TZNAME:EST
TZOFFSETFROM:-0400
TZOFFSETTO:-0500
DTSTART:20211107T060000
END:STANDARD
END:VTIMEZONE
BEGIN:VEVENT
UID:69b9da0f58d3f
DTSTART;TZID=America/Toronto:20211112T130000
SEQUENCE:0
TRANSP:TRANSPARENT
DTEND;TZID=America/Toronto:20211112T142000
URL:https://uwaterloo.ca/knowledge-integration/events/ki-seminar-cross-coho
 rt-design-charrette-ideas-exchange
LOCATION:AL - Arts Lecture Hall 200 University Avenue West 211 Waterloo ON 
 N2L 3G1 Canada
SUMMARY:KI Seminar: Cross-cohort Design Charrette / Ideas Exchange
CLASS:PUBLIC
DESCRIPTION:The students of INTEG 275 (Making Collaboration Work) and INTEG
  320\n(The Museum Course: Research and Design) are in the midst of a desig
 n\nchallenge and are seeking your feedback!
DTSTAMP:20260317T224743Z
END:VEVENT
END:VCALENDAR