BEGIN:VCALENDAR
VERSION:2.0
PRODID:-//Drupal iCal API//EN
X-WR-CALNAME:Events items teaser
X-WR-TIMEZONE:America/Toronto
BEGIN:VTIMEZONE
TZID:America/Toronto
X-LIC-LOCATION:America/Toronto
BEGIN:DAYLIGHT
TZNAME:EDT
TZOFFSETFROM:-0500
TZOFFSETTO:-0400
DTSTART:20210314T070000
END:DAYLIGHT
BEGIN:STANDARD
TZNAME:EST
TZOFFSETFROM:-0400
TZOFFSETTO:-0500
DTSTART:20211107T060000
END:STANDARD
END:VTIMEZONE
BEGIN:VEVENT
UID:69b9da0fbbc0f
DTSTART;TZID=America/Toronto:20211119T130000
SEQUENCE:0
TRANSP:TRANSPARENT
DTEND;TZID=America/Toronto:20211119T142000
URL:https://uwaterloo.ca/knowledge-integration/events/ki-seminar-academic-p
 lanning-success
LOCATION:online: students access link via their LEARN calendar HH 1101: stu
 dents registered for the in-person offering of INTEG 10 Canada
SUMMARY:KI Seminar: Academic planning for success
CLASS:PUBLIC
DESCRIPTION:Academic success over the arc of your Bachelor of Knowledge\nI
 ntegration (BKI) will be discussed.\n\nThe BKI is unique in its flexibilit
 y\; however\, with such freedom comes\nresponsibility. For example\, when 
 KI students select courses that meet\nbreadth requirements\, students must
  pay attention to any needed\nprerequisites.
DTSTAMP:20260317T224743Z
END:VEVENT
END:VCALENDAR