BEGIN:VCALENDAR
VERSION:2.0
PRODID:-//Drupal iCal API//EN
X-WR-CALNAME:Events items teaser
X-WR-TIMEZONE:America/Toronto
BEGIN:VTIMEZONE
TZID:America/Toronto
X-LIC-LOCATION:America/Toronto
BEGIN:DAYLIGHT
TZNAME:EDT
TZOFFSETFROM:-0500
TZOFFSETTO:-0400
DTSTART:20220313T070000
END:DAYLIGHT
BEGIN:STANDARD
TZNAME:EST
TZOFFSETFROM:-0400
TZOFFSETTO:-0500
DTSTART:20221106T060000
END:STANDARD
END:VTIMEZONE
BEGIN:VEVENT
UID:69c13bb95a5a4
DTSTART;TZID=America/Toronto:20230113T143000
SEQUENCE:0
TRANSP:TRANSPARENT
DTEND;TZID=America/Toronto:20230113T160000
URL:https://uwaterloo.ca/knowledge-integration/events/ki-seminar-anvita-des
 ai
LOCATION:EV3 - Environment 3 200 University Avenue West room 1408 Waterloo 
 ON N2L 3G1 Canada
SUMMARY:KI Seminar: Anvita Desai
CLASS:PUBLIC
DESCRIPTION:Prioritizing Wellness: Knowledge Integration Seminar featuring
  Anvita\nDesai\, BKI’ 21\, Equity\, Inclusion\, Diversity\, and Anti-Ra
 cism\nSpecialist on Ontario Health’s Provincial Equity and Indigenous\nH
 ealth portfolio
DTSTAMP:20260323T131017Z
END:VEVENT
END:VCALENDAR