BEGIN:VCALENDAR
VERSION:2.0
PRODID:-//Drupal iCal API//EN
X-WR-CALNAME:Events items teaser
X-WR-TIMEZONE:America/Toronto
BEGIN:VTIMEZONE
TZID:America/Toronto
X-LIC-LOCATION:America/Toronto
BEGIN:DAYLIGHT
TZNAME:EDT
TZOFFSETFROM:-0500
TZOFFSETTO:-0400
DTSTART:20220313T070000
END:DAYLIGHT
BEGIN:STANDARD
TZNAME:EST
TZOFFSETFROM:-0400
TZOFFSETTO:-0500
DTSTART:20221106T060000
END:STANDARD
END:VTIMEZONE
BEGIN:VEVENT
UID:69b9da065694c
DTSTART;TZID=America/Toronto:20230210T143000
SEQUENCE:0
TRANSP:TRANSPARENT
DTEND;TZID=America/Toronto:20230210T160000
URL:https://uwaterloo.ca/knowledge-integration/events/ki-seminar-anika-will
 iams-hewitt-2023
LOCATION:EV3 - Environment 3 200 University Avenue West room 1408 Waterloo 
 ON N2L 3G1 Canada
SUMMARY:KI Seminar: Anika Williams-Hewitt
CLASS:PUBLIC
DESCRIPTION:Where Do I Fit? Practical Job Search Strategies in KI\, Knowl
 edge\nIntegration Seminar featuring Anika Williams-Hewitt\, Career Adviso
 r &amp;\nCareer Leader Supervisor in the Centre for Career Action\, Universit
 y\nof Waterloo
DTSTAMP:20260317T224734Z
END:VEVENT
END:VCALENDAR