BEGIN:VCALENDAR
VERSION:2.0
PRODID:-//Drupal iCal API//EN
X-WR-CALNAME:Events items teaser
X-WR-TIMEZONE:America/Toronto
BEGIN:VTIMEZONE
TZID:America/Toronto
X-LIC-LOCATION:America/Toronto
BEGIN:DAYLIGHT
TZNAME:EDT
TZOFFSETFROM:-0500
TZOFFSETTO:-0400
DTSTART:20220313T070000
END:DAYLIGHT
BEGIN:STANDARD
TZNAME:EST
TZOFFSETFROM:-0400
TZOFFSETTO:-0500
DTSTART:20221106T060000
END:STANDARD
END:VTIMEZONE
BEGIN:VEVENT
UID:69b9da0726d32
DTSTART;TZID=America/Toronto:20230310T143000
SEQUENCE:0
TRANSP:TRANSPARENT
DTEND;TZID=America/Toronto:20230310T160000
URL:https://uwaterloo.ca/knowledge-integration/events/ki-seminar-board-game
 s-and-buddies-march-2023
LOCATION:EV2 - Environment 2 200 University Avenue West room 2069 (the KI s
 tudio) Waterloo ON N2L 3G1 Canada
SUMMARY:KI Seminar: Board games and Buddies March 2023
CLASS:PUBLIC
DESCRIPTION:community-building activity led by the Knowledge Integration St
 udent\nSociety (KISS)
DTSTAMP:20260317T224735Z
END:VEVENT
END:VCALENDAR