BEGIN:VCALENDAR
VERSION:2.0
PRODID:-//Drupal iCal API//EN
X-WR-CALNAME:Events items teaser
X-WR-TIMEZONE:America/Toronto
BEGIN:VTIMEZONE
TZID:America/Toronto
X-LIC-LOCATION:America/Toronto
BEGIN:DAYLIGHT
TZNAME:EDT
TZOFFSETFROM:-0500
TZOFFSETTO:-0400
DTSTART:20230312T070000
END:DAYLIGHT
BEGIN:STANDARD
TZNAME:EST
TZOFFSETFROM:-0400
TZOFFSETTO:-0500
DTSTART:20221106T060000
END:STANDARD
END:VTIMEZONE
BEGIN:VEVENT
UID:69b9da04c85ab
DTSTART;TZID=America/Toronto:20231103T143000
SEQUENCE:0
TRANSP:TRANSPARENT
DTEND;TZID=America/Toronto:20231103T160000
URL:https://uwaterloo.ca/knowledge-integration/events/ki-seminar-health-sys
 tem-impact-being-generalist-specialized
LOCATION:EV2 - Environment 2\, Room 2002 200 University Avenue West Waterlo
 o ON N2L 3G1 Canada
SUMMARY:KI Seminar: Health System Impact: Being a Generalist in a Specializ
 ed\nWorld
CLASS:PUBLIC
DESCRIPTION:Dr. Samuel Petrie\, Health System Impact Fellow at the Universi
 ty of\nToronto and the Peter Munk Cardiac Centre\, University Health Netwo
 rk\,\nwill speak to the complexities of the health system and its need for
 \ngeneralist skills within the system.
DTSTAMP:20260317T224732Z
END:VEVENT
END:VCALENDAR