BEGIN:VCALENDAR
VERSION:2.0
PRODID:-//Drupal iCal API//EN
X-WR-CALNAME:Events items teaser
X-WR-TIMEZONE:America/Toronto
BEGIN:VTIMEZONE
TZID:America/Toronto
X-LIC-LOCATION:America/Toronto
BEGIN:DAYLIGHT
TZNAME:EDT
TZOFFSETFROM:-0500
TZOFFSETTO:-0400
DTSTART:20240310T070000
END:DAYLIGHT
BEGIN:STANDARD
TZNAME:EST
TZOFFSETFROM:-0400
TZOFFSETTO:-0500
DTSTART:20231105T060000
END:STANDARD
END:VTIMEZONE
BEGIN:VEVENT
UID:69b85926bed45
DTSTART;VALUE=DATE:20240611
SEQUENCE:0
TRANSP:TRANSPARENT
DTEND;VALUE=DATE:20240612
URL:https://uwaterloo.ca/knowledge-integration/events/convocation-spring-20
 24
SUMMARY:Convocation Spring 2024
CLASS:PUBLIC
DESCRIPTION:We're thrilled to celebrate the convocation of the KI Class of 
 2024!
X-MICROSOFT-CDO-ALLDAYEVENT:TRUE
DTSTAMP:20260316T192526Z
END:VEVENT
END:VCALENDAR