BEGIN:VCALENDAR
VERSION:2.0
PRODID:-//Drupal iCal API//EN
X-WR-CALNAME:Events items teaser
X-WR-TIMEZONE:America/Toronto
BEGIN:VTIMEZONE
TZID:America/Toronto
X-LIC-LOCATION:America/Toronto
BEGIN:DAYLIGHT
TZNAME:EDT
TZOFFSETFROM:-0500
TZOFFSETTO:-0400
DTSTART:20240310T070000
END:DAYLIGHT
BEGIN:STANDARD
TZNAME:EST
TZOFFSETFROM:-0400
TZOFFSETTO:-0500
DTSTART:20241103T060000
END:STANDARD
END:VTIMEZONE
BEGIN:VEVENT
UID:69b9d9fee372f
DTSTART;TZID=America/Toronto:20241115T143000
SEQUENCE:0
TRANSP:TRANSPARENT
DTEND;TZID=America/Toronto:20241115T160000
URL:https://uwaterloo.ca/knowledge-integration/events/creating-innovative-c
 ommunities
LOCATION:Environment 2\, Room 2002 200 University Avenue West Waterloo ON N
 2L 3G1 Canada
SUMMARY:Creating Innovative Communities
CLASS:PUBLIC
DESCRIPTION:Our communities face a wide variety of wicked challenges such a
 s\nencouraging sustainable economic development\, engaging in Indigenous\n
 reconciliation\, and enabling a local environment for human\nflourishing. 
 In this talk we will discuss what it takes to build a\ncommunity that has 
 the capacity for innovation\, including tools that\nyou can use as a stude
 nt\, educator\, and citizen to help build the\ninnovative community you wa
 nt to be a part of.
DTSTAMP:20260317T224726Z
END:VEVENT
END:VCALENDAR