BEGIN:VCALENDAR
VERSION:2.0
PRODID:-//Drupal iCal API//EN
X-WR-CALNAME:Events items teaser
X-WR-TIMEZONE:America/Toronto
BEGIN:VTIMEZONE
TZID:America/Toronto
X-LIC-LOCATION:America/Toronto
BEGIN:DAYLIGHT
TZNAME:EDT
TZOFFSETFROM:-0500
TZOFFSETTO:-0400
DTSTART:20260308T070000
END:DAYLIGHT
BEGIN:STANDARD
TZNAME:EST
TZOFFSETFROM:-0400
TZOFFSETTO:-0500
DTSTART:20251102T060000
END:STANDARD
END:VTIMEZONE
BEGIN:VEVENT
UID:69b85befa1478
DTSTART;TZID=America/Toronto:20260320T143000
SEQUENCE:0
TRANSP:TRANSPARENT
DTEND;TZID=America/Toronto:20260320T160000
URL:https://uwaterloo.ca/knowledge-integration/events/knowledge-integration
 -symposium-2026
LOCATION:EV2 - Environment 2 200 University Avenue West Room 2002 Waterloo 
 ON N2L 3G1 Canada
SUMMARY:Knowledge Integration Symposium 2026
CLASS:PUBLIC
DESCRIPTION:The graduating class of Knowledge Integration students will be\
 npresenting \"flash talks\" about their senior research projects\,\nfollo
 wed by individual discussions at their poster displays. Forming\nthe cap
 stone of their four-year undergraduate career\, these projects\nrepresent 
 an exciting synthesis of the diverse disciplines the\nstudents have explor
 ed through this one-of-a-kind interdisciplinary\nprogram.
DTSTAMP:20260316T193719Z
END:VEVENT
END:VCALENDAR