BEGIN:VCALENDAR
VERSION:2.0
PRODID:-//Drupal iCal API//EN
X-WR-CALNAME:Events items teaser
X-WR-TIMEZONE:America/Toronto
BEGIN:VTIMEZONE
TZID:America/Toronto
X-LIC-LOCATION:America/Toronto
BEGIN:DAYLIGHT
TZNAME:EDT
TZOFFSETFROM:-0500
TZOFFSETTO:-0400
DTSTART:20150308T070000
END:DAYLIGHT
BEGIN:STANDARD
TZNAME:EST
TZOFFSETFROM:-0400
TZOFFSETTO:-0500
DTSTART:20151101T060000
END:STANDARD
END:VTIMEZONE
BEGIN:VEVENT
UID:69e0a9e409d04
DTSTART;TZID=America/Toronto:20160311T140000
SEQUENCE:0
TRANSP:TRANSPARENT
DTEND;TZID=America/Toronto:20160311T160200
URL:https://uwaterloo.ca/management-science-engineering/3mt-management-scie
 nces
LOCATION:CPH - Carl A. Pollock Hall 200 University Avenue West 4333 Waterlo
 o ON N2L 3G1 Canada
SUMMARY:3 Minute Thesis Competition
CLASS:PUBLIC
DESCRIPTION:[3Minute Thesis]
DTSTAMP:20260416T092036Z
END:VEVENT
END:VCALENDAR