BEGIN:VCALENDAR
VERSION:2.0
PRODID:-//Drupal iCal API//EN
X-WR-CALNAME:Events items teaser
X-WR-TIMEZONE:America/Toronto
BEGIN:VTIMEZONE
TZID:America/Toronto
X-LIC-LOCATION:America/Toronto
BEGIN:DAYLIGHT
TZNAME:EDT
TZOFFSETFROM:-0500
TZOFFSETTO:-0400
DTSTART:20170312T070000
END:DAYLIGHT
BEGIN:STANDARD
TZNAME:EST
TZOFFSETFROM:-0400
TZOFFSETTO:-0500
DTSTART:20161106T060000
END:STANDARD
END:VTIMEZONE
BEGIN:VEVENT
UID:69e8f08ba85b6
DTSTART;TZID=America/Toronto:20170629T103000
SEQUENCE:0
TRANSP:TRANSPARENT
DTEND;TZID=America/Toronto:20170629T103000
URL:https://uwaterloo.ca/management-science-engineering/events/masc-thesis-
 seminar-mobina-masaeli
LOCATION:CPH - Carl A. Pollock Hall 200 University Avenue West Room 4333 Wa
 terloo ON N2L 3G1 Canada
SUMMARY:MASc Thesis Seminar - Mobina Masaeli
CLASS:PUBLIC
DESCRIPTION:SHIPMENT SCHEDULING IN HUB LOCATION PROBLEMS\n\nSupervisor(s): 
 Bookbinder\, James - Alumur Alev\, Sibel
DTSTAMP:20260422T160011Z
END:VEVENT
END:VCALENDAR