BEGIN:VCALENDAR
VERSION:2.0
PRODID:-//Drupal iCal API//EN
X-WR-CALNAME:Events items teaser
X-WR-TIMEZONE:America/Toronto
BEGIN:VTIMEZONE
TZID:America/Toronto
X-LIC-LOCATION:America/Toronto
BEGIN:DAYLIGHT
TZNAME:EDT
TZOFFSETFROM:-0500
TZOFFSETTO:-0400
DTSTART:20170312T070000
END:DAYLIGHT
BEGIN:STANDARD
TZNAME:EST
TZOFFSETFROM:-0400
TZOFFSETTO:-0500
DTSTART:20161106T060000
END:STANDARD
END:VTIMEZONE
BEGIN:VEVENT
UID:69e37a517e330
DTSTART;TZID=America/Toronto:20170912T150000
SEQUENCE:0
TRANSP:TRANSPARENT
DTEND;TZID=America/Toronto:20170912T170000
URL:https://uwaterloo.ca/management-science-engineering/events/scholarship-
 information-session-1
LOCATION:ML - Modern Languages 200 University Avenue West Theatre of Arts W
 aterloo ON N2L 3G1 Canada
SUMMARY:Scholarship information session
CLASS:PUBLIC
DESCRIPTION:This information session is for MASc and PhD students who have 
 a\nminimum 80% average.\n\nThe session is also being held on September 11t
 h\, from 5:30 pm to 7:30\npm in the same location.
DTSTAMP:20260418T123425Z
END:VEVENT
END:VCALENDAR