BEGIN:VCALENDAR
VERSION:2.0
PRODID:-//Drupal iCal API//EN
X-WR-CALNAME:Events items teaser
X-WR-TIMEZONE:America/Toronto
BEGIN:VTIMEZONE
TZID:America/Toronto
X-LIC-LOCATION:America/Toronto
BEGIN:DAYLIGHT
TZNAME:EDT
TZOFFSETFROM:-0500
TZOFFSETTO:-0400
DTSTART:20170312T070000
END:DAYLIGHT
BEGIN:STANDARD
TZNAME:EST
TZOFFSETFROM:-0400
TZOFFSETTO:-0500
DTSTART:20171105T060000
END:STANDARD
END:VTIMEZONE
BEGIN:VEVENT
UID:69e7a72a65398
DTSTART;TZID=America/Toronto:20171122T153000
SEQUENCE:0
TRANSP:TRANSPARENT
DTEND;TZID=America/Toronto:20171122T153000
URL:https://uwaterloo.ca/management-science-engineering/events/masc-thesis-
 seminar-paulo-carvalho-data-driven-optimization
LOCATION:CPH - Carl A. Pollock Hall 200 University Avenue West Room 3623 Wa
 terloo ON N2L 3G1 Canada
SUMMARY:MASc Thesis Seminar | Paulo De Carvalho: \"A data-driven optimizati
 on\napproach for mixed-case palletization and three dimensional bin\npacki
 ng\"
CLASS:PUBLIC
DESCRIPTION:Pallets are the most common form of packaging in the retail ind
 ustry.\nTheir building involves the solution of a three-dimensional packin
 g\nproblem with side practical constraints such as item support and\npalle
 t stability\, leading to what is known as the mixed-case\npalletization pr
 oblem. Motivated by the fact that solving\nindustry-size instances is stil
 l very challenging for current methods\,\nwe propose a new solution method
 ology that combines data analysis at\nthe instance level and optimization 
 to build pallets.
DTSTAMP:20260421T163450Z
END:VEVENT
END:VCALENDAR