BEGIN:VCALENDAR
VERSION:2.0
PRODID:-//Drupal iCal API//EN
X-WR-CALNAME:Events items teaser
X-WR-TIMEZONE:America/Toronto
BEGIN:VTIMEZONE
TZID:America/Toronto
X-LIC-LOCATION:America/Toronto
BEGIN:DAYLIGHT
TZNAME:EDT
TZOFFSETFROM:-0500
TZOFFSETTO:-0400
DTSTART:20170312T070000
END:DAYLIGHT
BEGIN:STANDARD
TZNAME:EST
TZOFFSETFROM:-0400
TZOFFSETTO:-0500
DTSTART:20171105T060000
END:STANDARD
END:VTIMEZONE
BEGIN:VEVENT
UID:69e7a725b3fe0
DTSTART;TZID=America/Toronto:20180206T100000
SEQUENCE:0
TRANSP:TRANSPARENT
DTEND;TZID=America/Toronto:20180206T100000
URL:https://uwaterloo.ca/management-science-engineering/events/phd-defence-
 morley-katz-field-theory-leadership
LOCATION:CPH - Carl A. Pollock Hall 200 University Avenue West Room 3623 Wa
 terloo ON N2L 3G1 Canada
SUMMARY:PhD Defence | Morley Katz: \"A Field Theory of Leadership\"
CLASS:PUBLIC
DESCRIPTION:Existing leadership theories tend to explain that leaders induc
 e\nothers to follow as a function of one or more of the following:\n\ni) A
  specific set of traits possessed by the leader (e.g.\, charisma)\;\n\nii)
  Different types of behaviours the leader exhibits depending on the\nsitua
 tion (e.g.\, a focus on tasks or a focus on relationships)\;\n\niii) Speci
 fics relating to the structure and dynamics of the\nleader-follower relati
 onship (e.g.\, economic\, social\, or psychological\nexchange\, or a 'cust
 omized' focus on the 'follower').
DTSTAMP:20260421T163445Z
END:VEVENT
END:VCALENDAR