BEGIN:VCALENDAR
VERSION:2.0
PRODID:-//Drupal iCal API//EN
X-WR-CALNAME:Events items teaser
X-WR-TIMEZONE:America/Toronto
BEGIN:VTIMEZONE
TZID:America/Toronto
X-LIC-LOCATION:America/Toronto
BEGIN:DAYLIGHT
TZNAME:EDT
TZOFFSETFROM:-0500
TZOFFSETTO:-0400
DTSTART:20180311T070000
END:DAYLIGHT
BEGIN:STANDARD
TZNAME:EST
TZOFFSETFROM:-0400
TZOFFSETTO:-0500
DTSTART:20171105T060000
END:STANDARD
END:VTIMEZONE
BEGIN:VEVENT
UID:69e14e894b7f6
DTSTART;TZID=America/Toronto:20180417T143000
SEQUENCE:0
TRANSP:TRANSPARENT
DTEND;TZID=America/Toronto:20180417T153000
URL:https://uwaterloo.ca/management-science-engineering/events/management-s
 ciences-seminar-jose-oliveira-waste-minimization
LOCATION:CPH - Carl A. Pollock Hall 200 University Avenue West Room 4335 Wa
 terloo ON N2L 3G1 Canada
SUMMARY:Management Sciences Seminar | Jose Oliveira: \"Waste Minimization: 
 The\nContribution of Cutting and Packing Problems for a More Competitive\n
 and Environmentally Friendly Industry\"
CLASS:PUBLIC
DESCRIPTION:Cutting and Packing problems are hard combinatorial optimizatio
 n\nproblems that arise in the context of several manufacturing and\nproces
 s industries or in their supply chains. These problems occur\nwhenever a b
 igger object or space has to be divided into smaller\nobjects or spaces\, 
 so that waste is minimized.
DTSTAMP:20260416T210305Z
END:VEVENT
END:VCALENDAR