BEGIN:VCALENDAR
VERSION:2.0
PRODID:-//Drupal iCal API//EN
X-WR-CALNAME:Events items teaser
X-WR-TIMEZONE:America/Toronto
BEGIN:VTIMEZONE
TZID:America/Toronto
X-LIC-LOCATION:America/Toronto
BEGIN:DAYLIGHT
TZNAME:EDT
TZOFFSETFROM:-0500
TZOFFSETTO:-0400
DTSTART:20180311T070000
END:DAYLIGHT
BEGIN:STANDARD
TZNAME:EST
TZOFFSETFROM:-0400
TZOFFSETTO:-0500
DTSTART:20171105T060000
END:STANDARD
END:VTIMEZONE
BEGIN:VEVENT
UID:69e8f162b2a9f
DTSTART;TZID=America/Toronto:20180413T101500
SEQUENCE:0
TRANSP:TRANSPARENT
DTEND;TZID=America/Toronto:20180413T101500
URL:https://uwaterloo.ca/management-science-engineering/events/phd-comprehe
 nsive-exam-md-razib-alam-three-essays-technology
LOCATION:MC - Mathematics &amp; Computer Building 200 University Avenue West Ro
 om 2009 Waterloo ON N2L 3G1 Canada
SUMMARY:PhD Comprehensive Exam | Md Razib Alam: \"Three Essays on Technolog
 y\nDiversification and Innovation\"
CLASS:PUBLIC
DESCRIPTION:AREA OF RESEARCH\n\nManagement of Technology\n\nCOMMITTEE CHAIR
 \n\nMark Aagaard - Electrical and Computer Engineering\n\nEXAMINING COMMIT
 TEE\n\nBonwoo Koo (Supervisor) - Management Sciences\n\nBrian Cozzarin - M
 anagement Sciences\n\nSelcuk Onay - Management Sciences\n\nMargaret Dalzie
 l - CBET
DTSTAMP:20260422T160346Z
END:VEVENT
END:VCALENDAR