BEGIN:VCALENDAR
VERSION:2.0
PRODID:-//Drupal iCal API//EN
X-WR-CALNAME:Events items teaser
X-WR-TIMEZONE:America/Toronto
BEGIN:VTIMEZONE
TZID:America/Toronto
X-LIC-LOCATION:America/Toronto
BEGIN:DAYLIGHT
TZNAME:EDT
TZOFFSETFROM:-0500
TZOFFSETTO:-0400
DTSTART:20180311T070000
END:DAYLIGHT
BEGIN:STANDARD
TZNAME:EST
TZOFFSETFROM:-0400
TZOFFSETTO:-0500
DTSTART:20171105T060000
END:STANDARD
END:VTIMEZONE
BEGIN:VEVENT
UID:69e6832a79692
DTSTART;TZID=America/Toronto:20180605T223000
SEQUENCE:0
TRANSP:TRANSPARENT
DTEND;TZID=America/Toronto:20180605T223000
URL:https://uwaterloo.ca/management-science-engineering/events/phd-defence-
 burak-guler-regional-energy-hub-achieving-low
LOCATION:CPH - Carl A. Pollock Hall 200 University Avenue West Room 4335 Wa
 terloo ON N2L 3G1 Canada
SUMMARY:PhD Defence | Burak Guler: \"A Regional Energy Hub for Achieving a\
 nLow-Carbon Energy Transition\"
CLASS:PUBLIC
DESCRIPTION:SUPERVISOR\n\nJatin Nathwani
DTSTAMP:20260420T194858Z
END:VEVENT
END:VCALENDAR