BEGIN:VCALENDAR
VERSION:2.0
PRODID:-//Drupal iCal API//EN
X-WR-CALNAME:Events items teaser
X-WR-TIMEZONE:America/Toronto
BEGIN:VTIMEZONE
TZID:America/Toronto
X-LIC-LOCATION:America/Toronto
BEGIN:DAYLIGHT
TZNAME:EDT
TZOFFSETFROM:-0500
TZOFFSETTO:-0400
DTSTART:20180311T070000
END:DAYLIGHT
BEGIN:STANDARD
TZNAME:EST
TZOFFSETFROM:-0400
TZOFFSETTO:-0500
DTSTART:20171105T060000
END:STANDARD
END:VTIMEZONE
BEGIN:VEVENT
UID:69e46babe6ec1
DTSTART;TZID=America/Toronto:20180514T120000
SEQUENCE:0
TRANSP:TRANSPARENT
DTEND;TZID=America/Toronto:20180514T130000
URL:https://uwaterloo.ca/management-science-engineering/events/management-s
 ciences-seminar-kathleen-m-carley-wisdom
LOCATION:CPH - Carl A. Pollock Hall 200 University Avenue West Room 4333 Wa
 terloo ON N2L 3G1 Canada
SUMMARY:Management Sciences Seminar | Kathleen M. Carley: \"Wisdom &amp; Ignora
 nce:\nManaging and Manipulating Groups through Heedful Interaction\"
CLASS:PUBLIC
DESCRIPTION:It is generally well accepted that your position in the social 
 network\naffects your ability to get information.  But how do the network
 \npositions of those with whom you interact\, influence you?  This issue\
 nis explored using high dimensional network data. Drawing on theories\nof 
 social influence and the generalized other\, social network analytic\nand 
 text analytic methods\, and data science techniques for big data a\nseries
  of complex socio-technical situation are assessed.
DTSTAMP:20260419T054411Z
END:VEVENT
END:VCALENDAR