BEGIN:VCALENDAR
VERSION:2.0
PRODID:-//Drupal iCal API//EN
X-WR-CALNAME:Events items teaser
X-WR-TIMEZONE:America/Toronto
BEGIN:VTIMEZONE
TZID:America/Toronto
X-LIC-LOCATION:America/Toronto
BEGIN:DAYLIGHT
TZNAME:EDT
TZOFFSETFROM:-0500
TZOFFSETTO:-0400
DTSTART:20180311T070000
END:DAYLIGHT
BEGIN:STANDARD
TZNAME:EST
TZOFFSETFROM:-0400
TZOFFSETTO:-0500
DTSTART:20171105T060000
END:STANDARD
END:VTIMEZONE
BEGIN:VEVENT
UID:69e8f1b196c07
DTSTART;TZID=America/Toronto:20180611T120000
SEQUENCE:0
TRANSP:TRANSPARENT
DTEND;TZID=America/Toronto:20180611T130000
URL:https://uwaterloo.ca/management-science-engineering/events/management-s
 ciences-seminar-pinar-keskinocak-quantitative
LOCATION:CPH - Carl A. Pollock Hall 200 University Avenue West Room 4335 Wa
 terloo ON N2L 3G1 Canada
SUMMARY:Management Sciences Seminar | Pinar Keskinocak: \"Quantitative Mode
 ls\nEmbedded in Decision-Support Tools for Healthcare Applications\"
CLASS:PUBLIC
DESCRIPTION:We will discuss a few examples from healthcare\, where quantita
 tive\nmodels embedded in decision-support tools can improve the quality of
 \ndecision-making (for patients\, physicians\, or caregivers) and patient\
 noutcomes.
DTSTAMP:20260422T160505Z
END:VEVENT
END:VCALENDAR