BEGIN:VCALENDAR
VERSION:2.0
PRODID:-//Drupal iCal API//EN
X-WR-CALNAME:Events items teaser
X-WR-TIMEZONE:America/Toronto
BEGIN:VTIMEZONE
TZID:America/Toronto
X-LIC-LOCATION:America/Toronto
BEGIN:DAYLIGHT
TZNAME:EDT
TZOFFSETFROM:-0500
TZOFFSETTO:-0400
DTSTART:20180311T070000
END:DAYLIGHT
BEGIN:STANDARD
TZNAME:EST
TZOFFSETFROM:-0400
TZOFFSETTO:-0500
DTSTART:20171105T060000
END:STANDARD
END:VTIMEZONE
BEGIN:VEVENT
UID:69e1bad16de1e
DTSTART;TZID=America/Toronto:20180619T120000
SEQUENCE:0
TRANSP:TRANSPARENT
DTEND;TZID=America/Toronto:20180619T130000
URL:https://uwaterloo.ca/management-science-engineering/events/management-s
 ciences-seminar-oleg-prokopyev-sequential
LOCATION:CPH - Carl A. Pollock Hall 200 University Avenue West Room 4335 Wa
 terloo ON N2L 3G1 Canada
SUMMARY:Management Sciences Seminar | Oleg Prokopyev: \"Sequential Interdic
 tion\nwith Incomplete Information and Learning\"
CLASS:PUBLIC
DESCRIPTION:We present a framework for a class of sequential decision-makin
 g\nproblems in the context of max-min bi-level programming\, where a\nlead
 er and a follower repeatedly interact. At each period\, the leader\nalloca
 tes resources to disrupt the performance of the follower (e.g.\,\nas in de
 fender-attacker or interdiction problems)\, who in turn\nminimizes some co
 st function over a set of activities that depends on\nthe leader’s decis
 ion.
DTSTAMP:20260417T044505Z
END:VEVENT
END:VCALENDAR