BEGIN:VCALENDAR
VERSION:2.0
PRODID:-//Drupal iCal API//EN
X-WR-CALNAME:Events items teaser
X-WR-TIMEZONE:America/Toronto
BEGIN:VTIMEZONE
TZID:America/Toronto
X-LIC-LOCATION:America/Toronto
BEGIN:DAYLIGHT
TZNAME:EDT
TZOFFSETFROM:-0500
TZOFFSETTO:-0400
DTSTART:20180311T070000
END:DAYLIGHT
BEGIN:STANDARD
TZNAME:EST
TZOFFSETFROM:-0400
TZOFFSETTO:-0500
DTSTART:20171105T060000
END:STANDARD
END:VTIMEZONE
BEGIN:VEVENT
UID:69e8f1c6bf250
DTSTART;TZID=America/Toronto:20180619T110000
SEQUENCE:0
TRANSP:TRANSPARENT
DTEND;TZID=America/Toronto:20180619T113000
URL:https://uwaterloo.ca/management-science-engineering/events/meeting-dr-p
 rokopyev
LOCATION:CPH - Carl A. Pollock Hall 200 University Avenue West Room 4310 Wa
 terloo ON N2L 3G1 Canada
SUMMARY:Meeting with Dr. Prokopyev
CLASS:PUBLIC
DESCRIPTION:Dr. Prokopyev will be discussing ‘SEQUENTIAL INTERDICTION WIT
 H\nINCOMPLETE INFORMATION AND LEARNING\n[/management-science-engineering/n
 ode/653]’ on the June 19th.\nGraduate students have an opportunity to me
 et with our distinguished\nspeaker before the seminar.
DTSTAMP:20260422T160526Z
END:VEVENT
END:VCALENDAR