BEGIN:VCALENDAR
VERSION:2.0
PRODID:-//Drupal iCal API//EN
X-WR-CALNAME:Events items teaser
X-WR-TIMEZONE:America/Toronto
BEGIN:VTIMEZONE
TZID:America/Toronto
X-LIC-LOCATION:America/Toronto
BEGIN:DAYLIGHT
TZNAME:EDT
TZOFFSETFROM:-0500
TZOFFSETTO:-0400
DTSTART:20180311T070000
END:DAYLIGHT
BEGIN:STANDARD
TZNAME:EST
TZOFFSETFROM:-0400
TZOFFSETTO:-0500
DTSTART:20171105T060000
END:STANDARD
END:VTIMEZONE
BEGIN:VEVENT
UID:69e8f212cc3f4
DTSTART;TZID=America/Toronto:20180807T140000
SEQUENCE:0
TRANSP:TRANSPARENT
DTEND;TZID=America/Toronto:20180807T140000
URL:https://uwaterloo.ca/management-science-engineering/events/masc-thesis-
 seminar-saravanan-natarajan-optimization
LOCATION:CPH - Carl A. Pollock Hall 200 University Avenue West Room 3623 Wa
 terloo ON N2L 3G1 Canada
SUMMARY:MASc Thesis Seminar | Saravanan Natarajan: \"Optimization &amp; Compari
 son\nof Manual &amp; Semi-Automated Material Handling in Cross-Dock using\nDis
 crete-Event Simulation\"
CLASS:PUBLIC
DESCRIPTION:A Cross-Dock (CD) is a synchronized unit of a supply chain netw
 ork\,\nused to sort the goods received from inbound trucks (from a warehou
 se\nor factory)\, and load those products to outbound trucks (for delivery
 \nof the goods to retail stores in the supply chain network). Most\ncross-
 docks use forklifts\, and other manual material handling\nequipment (MHE) 
 to process the goods on pallets received from inbound\ntrucks. Those palle
 ts are sorted and loaded onto outbound trucks.
DTSTAMP:20260422T160642Z
END:VEVENT
END:VCALENDAR