BEGIN:VCALENDAR
VERSION:2.0
PRODID:-//Drupal iCal API//EN
X-WR-CALNAME:Events items teaser
X-WR-TIMEZONE:America/Toronto
BEGIN:VTIMEZONE
TZID:America/Toronto
X-LIC-LOCATION:America/Toronto
BEGIN:DAYLIGHT
TZNAME:EDT
TZOFFSETFROM:-0500
TZOFFSETTO:-0400
DTSTART:20180311T070000
END:DAYLIGHT
BEGIN:STANDARD
TZNAME:EST
TZOFFSETFROM:-0400
TZOFFSETTO:-0500
DTSTART:20181104T060000
END:STANDARD
END:VTIMEZONE
BEGIN:VEVENT
UID:69e38b9f57271
DTSTART;TZID=America/Toronto:20181119T120000
SEQUENCE:0
TRANSP:TRANSPARENT
DTEND;TZID=America/Toronto:20181119T130000
URL:https://uwaterloo.ca/management-science-engineering/events/management-s
 ciences-seminar-armann-ingolfsson-comparison
LOCATION:CPH - Carl A. Pollock Hall 200 University Avenue West Room 4335 Wa
 terloo ON N2L 3G1 Canada
SUMMARY:Management Sciences seminar | Armann Ingolfsson: \"Comparison of Fl
 uid\nApproximations for Service Systems with State-Dependent Service Rates
 \nand Return Probabilities\"
CLASS:PUBLIC
DESCRIPTION:We compare two models of a multi-server queueing system with\ns
 tate-dependent service rates and return probabilities. In both\nmodels\, u
 pon completing service\, customers are delayed prior to\npossibly returnin
 g to service. In one model\, the determination of\nwhether a customer will
  return occurs immediately upon service\ncompletion\, at the beginning of 
 the delay. In the other\, that\ndetermination is made at the end of the de
 lay\, capturing the idea that\nit takes time for the customer’s conditio
 n and needs to evolve or\nassess\, before it becomes known whether a retur
 n to service is needed.
DTSTAMP:20260418T134815Z
END:VEVENT
END:VCALENDAR