BEGIN:VCALENDAR
VERSION:2.0
PRODID:-//Drupal iCal API//EN
X-WR-CALNAME:Events items teaser
X-WR-TIMEZONE:America/Toronto
BEGIN:VTIMEZONE
TZID:America/Toronto
X-LIC-LOCATION:America/Toronto
BEGIN:DAYLIGHT
TZNAME:EDT
TZOFFSETFROM:-0500
TZOFFSETTO:-0400
DTSTART:20190310T070000
END:DAYLIGHT
BEGIN:STANDARD
TZNAME:EST
TZOFFSETFROM:-0400
TZOFFSETTO:-0500
DTSTART:20181104T060000
END:STANDARD
END:VTIMEZONE
BEGIN:VEVENT
UID:69e0cb4bea9ca
DTSTART;TZID=America/Toronto:20190322T090000
SEQUENCE:0
TRANSP:TRANSPARENT
DTEND;TZID=America/Toronto:20190322T163000
URL:https://uwaterloo.ca/management-science-engineering/events/management-e
 ngineering-capstone-design-symposium-1
LOCATION:PSE - Pearl Sullivan Engineering 200 University Avenue West Waterl
 oo ON N2L 3G1 Canada
SUMMARY:Management Engineering Capstone Design Symposium
CLASS:PUBLIC
DESCRIPTION:[Management Engineering Capstone Symposium]\n\nThis year\, the 
 Management Engineering's Capstone Design Symposium\nis showcasing the ca
 pstone design projects of fifteen teams of senior\nstudents. Each of these
  teams has tackled an emergent problem\, in many\ncases sourced from a cli
 ent company\, with far-reaching implications in\nindustries and areas as d
 iverse as education\, retail\, manufacturing\,\nsoftware\, non-profits\, a
 irlines\, government\,  fashion\, and\nself-improvement.\n\nThemes of thi
 s year’s projects include data analytics\, data-driven\ndecision-making 
 and the design of systems that leverage this\ninformation into effective p
 roducts and solutions.  In order to\ncreate these comprehensive tools\, m
 anagement engineering projects are\noften highly multidisciplinary\, drawi
 ng from concepts in information\nsystems\, process design\, behavioral sci
 ence\, mathematical modelling\nand optimization\, and data science.\n\nThe
 re are many projects to discover\, take a look at the 2019\nManagement En
 gineering Capstone Design Projects.\n[https://uwaterloo.ca/capstone-design
 /2019-management-engineering-capstone-design-projects]
DTSTAMP:20260416T114307Z
END:VEVENT
END:VCALENDAR