BEGIN:VCALENDAR
VERSION:2.0
PRODID:-//Drupal iCal API//EN
X-WR-CALNAME:Events items teaser
X-WR-TIMEZONE:America/Toronto
BEGIN:VTIMEZONE
TZID:America/Toronto
X-LIC-LOCATION:America/Toronto
BEGIN:DAYLIGHT
TZNAME:EDT
TZOFFSETFROM:-0500
TZOFFSETTO:-0400
DTSTART:20250309T070000
END:DAYLIGHT
BEGIN:DAYLIGHT
TZNAME:EDT
TZOFFSETFROM:-0500
TZOFFSETTO:-0400
DTSTART:20240310T070000
END:DAYLIGHT
BEGIN:DAYLIGHT
TZNAME:EDT
TZOFFSETFROM:-0500
TZOFFSETTO:-0400
DTSTART:20230312T070000
END:DAYLIGHT
BEGIN:DAYLIGHT
TZNAME:EDT
TZOFFSETFROM:-0500
TZOFFSETTO:-0400
DTSTART:20220313T070000
END:DAYLIGHT
BEGIN:STANDARD
TZNAME:EST
TZOFFSETFROM:-0400
TZOFFSETTO:-0500
DTSTART:20241103T060000
END:STANDARD
BEGIN:STANDARD
TZNAME:EST
TZOFFSETFROM:-0400
TZOFFSETTO:-0500
DTSTART:20231105T060000
END:STANDARD
BEGIN:STANDARD
TZNAME:EST
TZOFFSETFROM:-0400
TZOFFSETTO:-0500
DTSTART:20221106T060000
END:STANDARD
BEGIN:STANDARD
TZNAME:EST
TZOFFSETFROM:-0400
TZOFFSETTO:-0500
DTSTART:20211107T060000
END:STANDARD
END:VTIMEZONE
BEGIN:VEVENT
UID:69e16d44b7fb3
DTSTART;TZID=America/Toronto:20250328T100000
SEQUENCE:0
TRANSP:TRANSPARENT
DTEND;TZID=America/Toronto:20250328T110000
URL:https://uwaterloo.ca/management-science-engineering/events/seminar-last
 -mile-logistics-london
LOCATION:CPH - Carl A. Pollock Hall 200 University Avenue West CPH 3623 Wat
 erloo ON N2L 3G1 Canada
SUMMARY:Seminar: Last-Mile Logistics in London
CLASS:PUBLIC
DESCRIPTION:TOLGA BEKTAS\n\nProfessor\, Associate Dean International Univer
 sity of Liverpool\nManagement School
DTSTAMP:20260416T231412Z
END:VEVENT
BEGIN:VEVENT
UID:69e16d44bc405
DTSTART;TZID=America/Toronto:20250403T100000
SEQUENCE:0
TRANSP:TRANSPARENT
DTEND;TZID=America/Toronto:20250403T110000
URL:https://uwaterloo.ca/management-science-engineering/events/seminar-long
 -term-care-home-far-home-models-and-approaches
LOCATION:CPH - Carl A. Pollock Hall 200 University Avenue West CPH 4335 Wat
 erloo ON N2L 3G1 Canada
SUMMARY:Seminar: A Long Term Care home far from home - Models and approache
 s\nfor bringing Long Term Care Residents back to their home communities
CLASS:PUBLIC
DESCRIPTION:DR. PETER VANBERKEl\n\nProfessor &amp; Associate Dean Research Depa
 rtment of Industrial\nEngineering\, Department of Emergency Medicine\, Dal
 housie University
DTSTAMP:20260416T231412Z
END:VEVENT
BEGIN:VEVENT
UID:69e16d44bd13f
DTSTART;TZID=America/Toronto:20240417T100000
SEQUENCE:0
TRANSP:TRANSPARENT
DTEND;TZID=America/Toronto:20240417T100000
URL:https://uwaterloo.ca/management-science-engineering/events/advance-your
 -tech-career-management
SUMMARY:Advance Your Tech Career into Management
CLASS:PUBLIC
DESCRIPTION:Management of Technology is key for STEM professionals who want
  to\nadvance in their technical career into a management role.
DTSTAMP:20260416T231412Z
END:VEVENT
BEGIN:VEVENT
UID:69e16d44bdb08
DTSTART;TZID=America/Toronto:20230317T100000
SEQUENCE:0
TRANSP:TRANSPARENT
DTEND;TZID=America/Toronto:20230317T140000
URL:https://uwaterloo.ca/management-science-engineering/events/management-e
 ngineering-capstone-design-symposium-2
LOCATION:PSE - Pearl Sullivan Engineering 200 University Ave West 2/F Water
 loo ON N2L 3G1 Canada
SUMMARY:Management Engineering Capstone Design Symposium
CLASS:PUBLIC
DESCRIPTION:Alumni\, students\, employers\, industry partners\, media\, and
  members of\nthe general public are invited to join us in Pearl Sullivan\n
 Engineering for the Management Sciences Capstone Design event
DTSTAMP:20260416T231412Z
END:VEVENT
BEGIN:VEVENT
UID:69e16d44be7cb
DTSTART;TZID=America/Toronto:20221025T120000
SEQUENCE:0
TRANSP:TRANSPARENT
DTEND;TZID=America/Toronto:20221025T130000
URL:https://uwaterloo.ca/management-science-engineering/events/startup-stor
 y-vena-medical
LOCATION:MC - Mathematics &amp; Computer Building 200 University Avenue West Wa
 terloo ON N2L 3G1 Canada
SUMMARY:Startup Story with Vena Medical
CLASS:PUBLIC
DESCRIPTION:STARTUP STORY WITH VENA MEDICAL
DTSTAMP:20260416T231412Z
END:VEVENT
BEGIN:VEVENT
UID:69e16d44bf583
DTSTART;TZID=America/Toronto:20221006T130000
SEQUENCE:0
TRANSP:TRANSPARENT
DTEND;TZID=America/Toronto:20221006T160000
URL:https://uwaterloo.ca/management-science-engineering/events/canadian-gra
 duate-engineering-consortium-virtual-grad
LOCATION:Online Canada
SUMMARY:Canadian Graduate Engineering Consortium - Virtual Grad Studies Fai
 r
CLASS:PUBLIC
DESCRIPTION:The Canadian Graduate Engineering Consortium (CGEC) brings toge
 ther\nsix of Canada’s top universities to address the urgent need for\nq
 ualified engineers who can solve today’s most complex technical\,\nsocia
 l and environmental challenges.
DTSTAMP:20260416T231412Z
END:VEVENT
BEGIN:VEVENT
UID:69e16d44c0158
DTSTART;TZID=America/Toronto:20220629T120000
SEQUENCE:0
TRANSP:TRANSPARENT
DTEND;TZID=America/Toronto:20220629T130000
URL:https://uwaterloo.ca/management-science-engineering/events/entrepreneur
 ial-phd-fellowship-information-session
LOCATION:PSE - Pearl Sullivan Engineering 200 University Ave West 2nd Floor
 \, Room 2324 Waterloo ON N2L 3G1 Canada
SUMMARY:Entrepreneurial Ph.D. Fellowship Information Session
CLASS:PUBLIC
DESCRIPTION:The University of Waterloo is awarding Entrepreneurial Ph.D.\nF
 ellowships to support outstanding\, business-minded Waterloo doctoral\nstu
 dents who are interested in commercializing their research.
DTSTAMP:20260416T231412Z
END:VEVENT
BEGIN:VEVENT
UID:69e16d44c0c4f
DTSTART;TZID=America/Toronto:20220301T130000
SEQUENCE:0
TRANSP:TRANSPARENT
DTEND;TZID=America/Toronto:20220301T140000
URL:https://uwaterloo.ca/management-science-engineering/events/embedding-ed
 i-your-grant-writing
SUMMARY:Embedding EDI into your Grant Writing
CLASS:PUBLIC
DESCRIPTION:This session seeks to share lessons learned regarding embedding
  EDII\ninto grant applications. Dr. Trevor Charles will discuss his\nexper
 ience embedding EDI principles to his research group and in a\nrecent NSER
 C grant application.
DTSTAMP:20260416T231412Z
END:VEVENT
BEGIN:VEVENT
UID:69e16d44c1585
DTSTART;TZID=America/Toronto:20220217T150000
SEQUENCE:0
TRANSP:TRANSPARENT
DTEND;TZID=America/Toronto:20220217T163000
URL:https://uwaterloo.ca/management-science-engineering/events/research-tal
 ks-michaelle-jean
SUMMARY:Research Talks with Michaëlle Jean
CLASS:PUBLIC
DESCRIPTION:Join us for a special edition of Research talks\, \"Black Histo
 ry is\nWorld History: From Moment to Global Movement\,\" featuring Michaë
 lle\nJean\, University of Waterloo Chancellor\, St. Paul’s University\nC
 ollege and former Governor General and Commander-in-Chief of Canada.\n\nPl
 ease register to receive a link to this virtual event.
DTSTAMP:20260416T231412Z
END:VEVENT
BEGIN:VEVENT
UID:69e16d44c1e6f
DTSTART;TZID=America/Toronto:20220216T120000
SEQUENCE:0
TRANSP:TRANSPARENT
DTEND;TZID=America/Toronto:20220216T120000
URL:https://uwaterloo.ca/management-science-engineering/events/win-thematic
 -seminar-electrical-double-layer-medium-control
SUMMARY:WIN Thematic Seminar: Electrical double layer as a medium to contro
 l\nmaterial synthesis
CLASS:PUBLIC
DESCRIPTION:The Waterloo Institute for Nanotechnology (WIN) has four main t
 hematic\nresearch areas\; Smart and Function Materials\, Connected Devices
 \, Next\nGeneration Energy Systems and Therapeutics and Theranostics. To\n
 showcase the work going on within these areas\, we will be holding\nmonthl
 y WIN Thematic Seminars featuring our members and their research\ngroup me
 mbers.
DTSTAMP:20260416T231412Z
END:VEVENT
END:VCALENDAR